Workbook

Sheet INFO
A1: IMPORTER DETAILS (收货人)
A2: FXI NO: | B2: =ASC('APPLICATION FORM'!B11)
A3: Company Name (公司名) | B3: =ASC('APPLICATION FORM'!B12)
A4: Address (地址) | B4: =ASC('APPLICATION FORM'!B13)
A5: E-mail (电邮) | B5: =ASC('APPLICATION FORM'!B14)
A6: Telephone (国家代号+区域代号+电话号码) | B6: =ASC('APPLICATION FORM'!B15)
A7: Fax (国家代号+区域代号+传真号码) | B7: =ASC('APPLICATION FORM'!B16)
A8: SHIPPER DETAILS (发货人)
A9: Company Name (公司名) | B9: =ASC('APPLICATION FORM'!B20)
A10: Address (地址) | B10: =ASC('APPLICATION FORM'!B21)
A11: E-mail (电邮) | B11: =ASC('APPLICATION FORM'!B22)
A12: Telephone (国家代号+区域代号+电话号码) | B12: =ASC('APPLICATION FORM'!B23)
A13: Fax (国家代号+区域代号+传真号码) | B13: =ASC('APPLICATION FORM'!B24)
A14: B/L INFORMATION (提单信息)
A15: Bill of Lading (提单号) | B15: =ASC('APPLICATION FORM'!B27)
A16: Date of Issue of B/L (提单签发日期) | B16: =IFERROR(Sheet1!B1,"")
A17: Forwarding agent (跟踪单申请人) (公司名) | B17: =ASC('APPLICATION FORM'!B29)
A18: SHIPMENT FULL ROUTING (全程航线)
A19: Country of Loading (启运国) | B19: =IFERROR(Sheet1!B3,"")
A20: Final Destination (最终目的地) | B20: =ASC('APPLICATION FORM'!B33)
B21: POL | C21: 1st TRANSHIP | D21: 2nd TRANSHIP | E21: 3rd TRANSHIP | F21: Destination Port
A22: Ports 装货港/中转港/最终目的港 | B22: =ASC('APPLICATION FORM'!B35) | C22: =ASC('APPLICATION FORM'!C35) | D22: =ASC('APPLICATION FORM'!D35) | E22: =ASC('APPLICATION FORM'!E35) | F22: =IFERROR(Sheet1!B4,"")
A23: ETD Date of Loading (船离港日期) | B23: =IFERROR(Sheet1!B6,"") | C23: =IFERROR(Sheet1!D6,"") | D23: =IFERROR(Sheet1!F6,"") | E23: =IFERROR(Sheet1!H6,"")
A24: ETA Date of Arrival (船抵港日期) | C24: =IFERROR(Sheet1!D7,"") | D24: =IFERROR(Sheet1!F7,"") | E24: =IFERROR(Sheet1!H7,"") | F24: =IFERROR(Sheet1!J7,"")
A25: Shipping Line (船公司名) | B25: =IFERROR(Sheet1!B9,"")
A26: Vessel Name (船名) | B26: =ASC('APPLICATION FORM'!B39) | C26: =ASC('APPLICATION FORM'!C39) | D26: =ASC('APPLICATION FORM'!D39) | E26: =ASC('APPLICATION FORM'!E39)
A27: Voyage number (航次) | B27: =ASC('APPLICATION FORM'!B40) | C27: =ASC('APPLICATION FORM'!C40) | D27: =ASC('APPLICATION FORM'!D40) | E27: =ASC('APPLICATION FORM'!E40)
A28: CONTAINER / BULK DETAILS (货柜/散货资料)
A29: Sea Mode of Transport (海运方式) | B29: =IFERROR(Sheet1!B11,"") -> Conteneur
A30: 20't FCL Quantity (货柜数量 20') | B30: =IF('APPLICATION FORM'!B44="",0,ASC('APPLICATION FORM'!B44)) -> 0
A31: 40't FCL Quantity (货柜数量 40') | B31: =IF('APPLICATION FORM'!B45="",0,ASC('APPLICATION FORM'!B45)) -> 0
A32: Total Gross Weight (kgs) (总毛重) | B32: ='APPLICATION FORM'!B53 -> 0
A33: Total Net Weight (kgs) (总净重) | B33: ='APPLICATION FORM'!B54 -> 0
A34: Total Volume (cbm) (总体积) | B34: ='APPLICATION FORM'!B55 -> 0
A35: CARGO DETAILS (货物资料)
A36: Category / HS code (商品编号) | B36: =IFERROR(Sheet1!D16,"")
A37: Goods Orgin Country (货物原产地) | B37: =IFERROR(Sheet1!B17,"")
A38: IMDG Code(国际危规) | B38: =IFERROR(Sheet1!D18,"") -> 00
A39: Description of the goods (品名) | B39: =ASC('APPLICATION FORM'!B61)
A40: Package Type (包装种类) | B40: =IFERROR(Sheet1!B19,"")
...

Sheet INFO2
A1: Container size(货柜尺寸) | B1: Container Type (货柜类型) | C1: Container number(s) 货柜号 | D1: Seal number(s) 封条号 | E1: Gross Weight (kgs) 毛重 | F1: Net Weight (kgs) 净重 | G1: (CBM)体积
A2: =IFERROR(Sheet1!B13,"") | B2: =IFERROR(Sheet1!B14,"") | C2: ='APPLICATION FORM'!B48 -> 0 | D2: ='APPLICATION FORM'!B49 -> 0 | E2: ='APPLICATION FORM'!B50 -> 0 | F2: ='APPLICATION FORM'!B51 -> 0 | G2: ='APPLICATION FORM'!B52 -> 0
A3: =IFERROR(Sheet1!C13,"") | B3: =IFERROR(Sheet1!C14,"") | C3: ='APPLICATION FORM'!C48 -> 0 | D3: ='APPLICATION FORM'!C49 -> 0 | E3: ='APPLICATION FORM'!C50 -> 0 | F3: ='APPLICATION FORM'!C51 -> 0 | G3: ='APPLICATION FORM'!C52 -> 0
A4: =IFERROR(Sheet1!D13,"") | B4: =IFERROR(Sheet1!D14,"") | C4: ='APPLICATION FORM'!D48 -> 0 | D4: ='APPLICATION FORM'!D49 -> 0 | E4: ='APPLICATION FORM'!D50 -> 0 | F4: ='APPLICATION FORM'!D51 -> 0 | G4: ='APPLICATION FORM'!D52 -> 0
A5: =IFERROR(Sheet1!E13,"") | B5: =IFERROR(Sheet1!E14,"") | C5: ='APPLICATION FORM'!E48 -> 0 | D5: ='APPLICATION FORM'!E49 -> 0 | E5: ='APPLICATION FORM'!E50 -> 0 | F5: ='APPLICATION FORM'!E51 -> 0 | G5: ='APPLICATION FORM'!E52 -> 0
A6: =IFERROR(Sheet1!F13,"") | B6: =IFERROR(Sheet1!F14,"") | C6: ='APPLICATION FORM'!F48 -> 0 | D6: ='APPLICATION FORM'!F49 -> 0 | E6: ='APPLICATION FORM'!F50 -> 0 | F6: ='APPLICATION FORM'!F51 -> 0 | G6: ='APPLICATION FORM'!F52 -> 0
A7: =IFERROR(Sheet1!G13,"") | B7: =IFERROR(Sheet1!G14,"") | C7: ='APPLICATION FORM'!G48 -> 0 | D7: ='APPLICATION FORM'!G49 -> 0 | E7: ='APPLICATION FORM'!G50 -> 0 | F7: ='APPLICATION FORM'!G51 -> 0 | G7: ='APPLICATION FORM'!G52 -> 0
A8: =IFERROR(Sheet1!H13,"") | B8: =IFERROR(Sheet1!H14,"") | C8: ='APPLICATION FORM'!H48 -> 0 | D8: ='APPLICATION FORM'!H49 -> 0 | E8: ='APPLICATION FORM'!H50 -> 0 | F8: ='APPLICATION FORM'!H51 -> 0 | G8: ='APPLICATION FORM'!H52 -> 0
A9: =IFERROR(Sheet1!I13,"") | B9: =IFERROR(Sheet1!I14,"") | C9: ='APPLICATION FORM'!I48 -> 0 | D9: ='APPLICATION FORM'!I49 -> 0 | E9: ='APPLICATION FORM'!I50 -> 0 | F9: ='APPLICATION FORM'!I51 -> 0 | G9: ='APPLICATION FORM'!I52 -> 0
A10: =IFERROR(Sheet1!J13,"") | B10: =IFERROR(Sheet1!J14,"") | C10: ='APPLICATION FORM'!J48 -> 0 | D10: ='APPLICATION FORM'!J49 -> 0 | E10: ='APPLICATION FORM'!J50 -> 0 | F10: ='APPLICATION FORM'!J51 -> 0 | G10: ='APPLICATION FORM'!J52 -> 0
A11: =IFERROR(Sheet1!K13,"") | B11: =IFERROR(Sheet1!K14,"") | C11: ='APPLICATION FORM'!K48 -> 0 | D11: ='APPLICATION FORM'!K49 -> 0 | E11: ='APPLICATION FORM'!K50 -> 0 | F11: ='APPLICATION FORM'!K51 -> 0 | G11: ='APPLICATION FORM'!K52 -> 0
A12: =IFERROR(Sheet1!L13,"") | B12: =IFERROR(Sheet1!L14,"") | C12: ='APPLICATION FORM'!L48 -> 0 | D12: ='APPLICATION FORM'!L49 -> 0 | E12: ='APPLICATION FORM'!L50 -> 0 | F12: ='APPLICATION FORM'!L51 -> 0 | G12: ='APPLICATION FORM'!L52 -> 0
A13: =IFERROR(Sheet1!M13,"") | B13: =IFERROR(Sheet1!M14,"") | C13: ='APPLICATION FORM'!M48 -> 0 | D13: ='APPLICATION FORM'!M49 -> 0 | E13: ='APPLICATION FORM'!M50 -> 0 | F13: ='APPLICATION FORM'!M51 -> 0 | G13: ='APPLICATION FORM'!M52 -> 0
A14: =IFERROR(Sheet1!N13,"") | B14: =IFERROR(Sheet1!N14,"") | C14: ='APPLICATION FORM'!N48 -> 0 | D14: ='APPLICATION FORM'!N49 -> 0 | E14: ='APPLICATION FORM'!N50 -> 0 | F14: ='APPLICATION FORM'!N51 -> 0 | G14: ='APPLICATION FORM'!N52 -> 0
A15: =IFERROR(Sheet1!O13,"") | B15: =IFERROR(Sheet1!O14,"") | C15: ='APPLICATION FORM'!O48 -> 0 | D15: ='APPLICATION FORM'!O49 -> 0 | E15: ='APPLICATION FORM'!O50 -> 0 | F15: ='APPLICATION FORM'!O51 -> 0 | G15: ='APPLICATION FORM'!O52 -> 0
A16: =IFERROR(Sheet1!P13,"") | B16: =IFERROR(Sheet1!P14,"") | C16: ='APPLICATION FORM'!P48 -> 0 | D16: ='APPLICATION FORM'!P49 -> 0 | E16: ='APPLICATION FORM'!P50 -> 0 | F16: ='APPLICATION FORM'!P51 -> 0 | G16: ='APPLICATION FORM'!P52 -> 0
A17: =IFERROR(Sheet1!Q13,"") | B17: =IFERROR(Sheet1!Q14,"") | C17: ='APPLICATION FORM'!Q48 -> 0 | D17: ='APPLICATION FORM'!Q49 -> 0 | E17: ='APPLICATION FORM'!Q50 -> 0 | F17: ='APPLICATION FORM'!Q51 -> 0 | G17: ='APPLICATION FORM'!Q52 -> 0
A18: =IFERROR(Sheet1!R13,"") | B18: =IFERROR(Sheet1!R14,"") | C18: ='APPLICATION FORM'!R48 -> 0 | D18: ='APPLICATION FORM'!R49 -> 0 | E18: ='APPLICATION FORM'!R50 -> 0 | F18: ='APPLICATION FORM'!R51 -> 0 | G18: ='APPLICATION FORM'!R52 -> 0
A19: =IFERROR(Sheet1!S13,"") | B19: =IFERROR(Sheet1!S14,"") | C19: ='APPLICATION FORM'!S48 -> 0 | D19: ='APPLICATION FORM'!S49 -> 0 | E19: ='APPLICATION FORM'!S50 -> 0 | F19: ='APPLICATION FORM'!S51 -> 0 | G19: ='APPLICATION FORM'!S52 -> 0
A20: =IFERROR(Sheet1!T13,"") | B20: =IFERROR(Sheet1!T14,"") | C20: ='APPLICATION FORM'!T48 -> 0 | D20: ='APPLICATION FORM'!T49 -> 0 | E20: ='APPLICATION FORM'!T50 -> 0 | F20: ='APPLICATION FORM'!T51 -> 0 | G20: ='APPLICATION FORM'!T52 -> 0
A21: =IFERROR(Sheet1!U13,"") | B21: =IFERROR(Sheet1!U14,"") | C21: ='APPLICATION FORM'!U48 -> 0 | D21: ='APPLICATION FORM'!U49 -> 0 | E21: ='APPLICATION FORM'!U50 -> 0 | F21: ='APPLICATION FORM'!U51 -> 0 | G21: ='APPLICATION FORM'!U52 -> 0
A22: =IFERROR(Sheet1!V13,"") | B22: =IFERROR(Sheet1!V14,"") | C22: ='APPLICATION FORM'!V48 -> 0 | D22: ='APPLICATION FORM'!V49 -> 0 | E22: ='APPLICATION FORM'!V50 -> 0 | F22: ='APPLICATION FORM'!V51 -> 0 | G22: ='APPLICATION FORM'!V52 -> 0
A23: =IFERROR(Sheet1!W13,"") | B23: =IFERROR(Sheet1!W14,"") | C23: ='APPLICATION FORM'!W48 -> 0 | D23: ='APPLICATION FORM'!W49 -> 0 | E23: ='APPLICATION FORM'!W50 -> 0 | F23: ='APPLICATION FORM'!W51 -> 0 | G23: ='APPLICATION FORM'!W52 -> 0
A24: =IFERROR(Sheet1!X13,"") | B24: =IFERROR(Sheet1!X14,"") | C24: ='APPLICATION FORM'!X48 -> 0 | D24: ='APPLICATION FORM'!X49 -> 0 | E24: ='APPLICATION FORM'!X50 -> 0 | F24: ='APPLICATION FORM'!X51 -> 0 | G24: ='APPLICATION FORM'!X52 -> 0
A25: =IFERROR(Sheet1!Y13,"") | B25: =IFERROR(Sheet1!Y14,"") | C25: ='APPLICATION FORM'!Y48 -> 0 | D25: ='APPLICATION FORM'!Y49 -> 0 | E25: ='APPLICATION FORM'!Y50 -> 0 | F25: ='APPLICATION FORM'!Y51 -> 0 | G25: ='APPLICATION FORM'!Y52 -> 0
A26: =IFERROR(Sheet1!Z13,"") | B26: =IFERROR(Sheet1!Z14,"") | C26: ='APPLICATION FORM'!Z48 -> 0 | D26: ='APPLICATION FORM'!Z49 -> 0 | E26: ='APPLICATION FORM'!Z50 -> 0 | F26: ='APPLICATION FORM'!Z51 -> 0 | G26: ='APPLICATION FORM'!Z52 -> 0
A27: =IFERROR(Sheet1!AA13,"") | B27: =IFERROR(Sheet1!AA14,"") | C27: ='APPLICATION FORM'!AA48 -> 0 | D27: ='APPLICATION FORM'!AA49 -> 0 | E27: ='APPLICATION FORM'!AA50 -> 0 | F27: ='APPLICATION FORM'!AA51 -> 0 | G27: ='APPLICATION FORM'!AA52 -> 0
A28: =IFERROR(Sheet1!AB13,"") | B28: =IFERROR(Sheet1!AB14,"") | C28: ='APPLICATION FORM'!AB48 -> 0 | D28: ='APPLICATION FORM'!AB49 -> 0 | E28: ='APPLICATION FORM'!AB50 -> 0 | F28: ='APPLICATION FORM'!AB51 -> 0 | G28: ='APPLICATION FORM'!AB52 -> 0
A29: =IFERROR(Sheet1!AC13,"") | B29: =IFERROR(Sheet1!AC14,"") | C29: ='APPLICATION FORM'!AC48 -> 0 | D29: ='APPLICATION FORM'!AC49 -> 0 | E29: ='APPLICATION FORM'!AC50 -> 0 | F29: ='APPLICATION FORM'!AC51 -> 0 | G29: ='APPLICATION FORM'!AC52 -> 0
A30: =IFERROR(Sheet1!AD13,"") | B30: =IFERROR(Sheet1!AD14,"") | C30: ='APPLICATION FORM'!AD48 -> 0 | D30: ='APPLICATION FORM'!AD49 -> 0 | E30: ='APPLICATION FORM'!AD50 -> 0 | F30: ='APPLICATION FORM'!AD51 -> 0 | G30: ='APPLICATION FORM'!AD52 -> 0
A31: =IFERROR(Sheet1!AE13,"") | B31: =IFERROR(Sheet1!AE14,"") | C31: ='APPLICATION FORM'!AE48 -> 0 | D31: ='APPLICATION FORM'!AE49 -> 0 | E31: ='APPLICATION FORM'!AE50 -> 0 | F31: ='APPLICATION FORM'!AE51 -> 0 | G31: ='APPLICATION FORM'!AE52 -> 0
A32: =IFERROR(Sheet1!AF13,"") | B32: =IFERROR(Sheet1!AF14,"") | C32: ='APPLICATION FORM'!AF48 -> 0 | D32: ='APPLICATION FORM'!AF49 -> 0 | E32: ='APPLICATION FORM'!AF50 -> 0 | F32: ='APPLICATION FORM'!AF51 -> 0 | G32: ='APPLICATION FORM'!AF52 -> 0
A33: =IFERROR(Sheet1!AG13,"") | B33: =IFERROR(Sheet1!AG14,"") | C33: ='APPLICATION FORM'!AG48 -> 0 | D33: ='APPLICATION FORM'!AG49 -> 0 | E33: ='APPLICATION FORM'!AG50 -> 0 | F33: ='APPLICATION FORM'!AG51 -> 0 | G33: ='APPLICATION FORM'!AG52 -> 0
A34: =IFERROR(Sheet1!AH13,"") | B34: =IFERROR(Sheet1!AH14,"") | C34: ='APPLICATION FORM'!AH48 -> 0 | D34: ='APPLICATION FORM'!AH49 -> 0 | E34: ='APPLICATION FORM'!AH50 -> 0 | F34: ='APPLICATION FORM'!AH51 -> 0 | G34: ='APPLICATION FORM'!AH52 -> 0
A35: =IFERROR(Sheet1!AI13,"") | B35: =IFERROR(Sheet1!AI14,"") | C35: ='APPLICATION FORM'!AI48 -> 0 | D35: ='APPLICATION FORM'!AI49 -> 0 | E35: ='APPLICATION FORM'!AI50 -> 0 | F35: ='APPLICATION FORM'!AI51 -> 0 | G35: ='APPLICATION FORM'!AI52 -> 0
A36: =IFERROR(Sheet1!AJ13,"") | B36: =IFERROR(Sheet1!AJ14,"") | C36: ='APPLICATION FORM'!AJ48 -> 0 | D36: ='APPLICATION FORM'!AJ49 -> 0 | E36: ='APPLICATION FORM'!AJ50 -> 0 | F36: ='APPLICATION FORM'!AJ51 -> 0 | G36: ='APPLICATION FORM'!AJ52 -> 0
A37: =IFERROR(Sheet1!AK13,"") | B37: =IFERROR(Sheet1!AK14,"") | C37: ='APPLICATION FORM'!AK48 -> 0 | D37: ='APPLICATION FORM'!AK49 -> 0 | E37: ='APPLICATION FORM'!AK50 -> 0 | F37: ='APPLICATION FORM'!AK51 -> 0 | G37: ='APPLICATION FORM'!AK52 -> 0
A38: =IFERROR(Sheet1!AL13,"") | B38: =IFERROR(Sheet1!AL14,"") | C38: ='APPLICATION FORM'!AL48 -> 0 | D38: ='APPLICATION FORM'!AL49 -> 0 | E38: ='APPLICATION FORM'!AL50 -> 0 | F38: ='APPLICATION FORM'!AL51 -> 0 | G38: ='APPLICATION FORM'!AL52 -> 0
A39: =IFERROR(Sheet1!AM13,"") | B39: =IFERROR(Sheet1!AM14,"") | C39: ='APPLICATION FORM'!AM48 -> 0 | D39: ='APPLICATION FORM'!AM49 -> 0 | E39: ='APPLICATION FORM'!AM50 -> 0 | F39: ='APPLICATION FORM'!AM51 -> 0 | G39: ='APPLICATION FORM'!AM52 -> 0
A40: =IFERROR(Sheet1!AN13,"") | B40: =IFERROR(Sheet1!AN14,"") | C40: ='APPLICATION FORM'!AN48 -> 0 | D40: ='APPLICATION FORM'!AN49 -> 0 | E40: ='APPLICATION FORM'!AN50 -> 0 | F40: ='APPLICATION FORM'!AN51 -> 0 | G40: ='APPLICATION FORM'!AN52 -> 0
...

Sheet DATA
A2: Afghanistan | B2: 阿富汗 | C2: AFGHANISTAN | D2: 44440 | E2: ABIDJAN | F2: 阿比让 | G2: ASEMSR SA | H2: 20‘ | I2: RoRo | J2: 滚装 | K2: RoRo | L2: Dry | M2: 干货集装箱 | N2: DRY | O2: 000 | P2: ---- | Q2: 00 | R2: N.C. | S2: SAC(S) | T2: 包 | U2: SAC(S) | V2: USD | W2: CIP | X2: PREPAID
A3: Albania | B3: 阿尔巴尼亚 | C3: ALBANIE | D3: 44441 | E3: ANGO-ANGO | F3: 安戈 | G3: ASPMRB TRANSPORT | H3: 40‘ | I3: Container | J3: 货柜 | K3: Conteneur | L3: Reefer | M3: 冷藏集装箱 | N3: REEFER | O3: 0100 | P3: ANIMAUX VIVANTS | Q3: 01 | R3: EXPLOSIFS | S3: CARTON(S) | T3: 包 | U3: CARTON(S) | V3: EUR | W3: CPT | X3: COLLECT
A4: Algeria | B4: 阿尔及利亚 | C4: ALGERIE | D4: 44442 | E4: BANANA | F4: 巴纳纳 | G4: DAMA LOGISTICS | I4: Genco | J4: 建材散货 | K4: Genco | L4: Open Top | M4: 开顶集装箱 | N4: OPEN-TOP | O4: 0101 | P4: CHEVAUX, ÂNES, MULETS ET BARDOTS, VIVANTS | Q4: 02 | R4: GAZ COMPRIMES | S4: PALETTE(S) | T4: 绕线筒 | U4: PALETTE(S) | V4: CDF | W4: CFR | X4: EN SERVICE
A5: American Samoa | B5: 美属萨摩亚 | C5: SAMOA AMERICAINES | D5: 44443 | E5: BEIRA | F5: 贝拉 | G5: FREBA INTERNATIONAL LTD | I5: Bulk | J5: 散货 | K5: Vrac | L5: Flat Rack | M5: 台架式集装箱 | N5: FLAT-RACK | O5: 0102 | P5: ANIMAUX VIVANTS DE L'ESPÈCE BOVINE | Q5: 03 | R5: LIQUIDES INFLAMMABLE | S5: FUT(S) | T5: 瓶 | U5: FUT(S) | V5: ADP | W5: CIF | X5: CP CHARTER PARTY
A6: Andorra | B6: 安道尔 | C6: ANDORRE | D6: 44444 | E6: BOMA | F6: 博马 | G6: JEBIM LOGISTICS | I6: LCL | J6: 拼箱货 | K6: Groupage LCL | L6: Ventilated | M6: 通风集装箱 | N6: VENTILATED | O6: 0103 | P6: ANIMAUX VIVANTS DE L'ESPÈCE PORCINE | Q6: 04 | R6: SOLIDES INFLAMMABLES | S6: CAISSE(S) | T6: 盒 | U6: CAISSE(S) | V6: AED | W6: DAP
A7: Angola | B7: 安哥拉 | C7: ANGOLA | D7: 44445 | E7: BUKAVU | F7: 布卡武 | G7: JY-YHK | L7: High Cube Container | M7: 高柜 | N7: HIGH CUBE PALLETIVE | O7: 0104 | P7: ANIMAUX VIVANTS DES ESPÈCES OVINE OU CAPRINE | Q7: 05 | R7: SUBSTANCES INFLAMMABLES | S7: BALE(S) | T7: 盒 | U7: BALE(S) | V7: AFA | W7: DPU
A8: Anguilla | B8: 安圭拉 | C8: ANGUILLA | D8: 44446 | E8: BUMBA | F8: 本巴 | G8: JY-YHK | L8: High Cube Reefer | M8: 高冻柜 | N8: HIGH CUBE REEFER | O8: 0105 | P8: COQS, POULES, CANARDS, OIES, DINDONS, DINDES ET PI | Q8: 06 | R8: SUB. TOXIQUES / INFECTIVES | S8: ROULEAU(X) | T8: 桶、水桶 | U8: ROULEAU(X) | V8: AFN | W8: DAT
A9: Antarctica | B9: 南极洲 | C9: ANTARCTIQUE | D9: 44447 | E9: BUNIA | F9: 布尼亚 | G9: K & R SERVICES CC | O9: 0106 | P9: ANIMAUX VIVANTS (À L'EXCL. DES ANIMAUX DES ESPÈC | Q9: 07 | R9: MATÃ©RIEL RADIOACTIF | S9: CRETE(S) | T9: 捆 | U9: CRETE(S) | V9: ALL | W9: DDP
A10: Antigua and Barbuda | B10: 安提瓜和巴布达 | C10: ANTIGUA-ET-BARBUDA | D10: 44448 | E10: DAR ES SALAAM | F10: 达累斯萨拉姆 | G10: LUKAASA INVESTMENTS LTD | O10: 0200 | P10: VIANDES ET ABATS COMESTIBLES | Q10: 08 | R10: SUSBSTANCES CORROSIVES | S10: RAME(S) | T10: 纸盒 | U10: RAME(S) | V10: AMD | W10: DDU
A11: Argentina | B11: 阿根廷 | C11: ARGENTINE | D11: 44449 | E11: DURBAN | F11: 德班 | G11: M.O ABDI & SONS LTD | O11: 0201 | P11: VIANDES DES ANIMAUX DE L'ESPÈCE BOVINE, FRAÎCHES | Q11: 09 | R11: SUBSTANCES DIVERSES | S11: COLIS | T11: 盒/箱 | U11: COLIS | V11: ANG | W11: DEQ
A12: Armenia | B12: 亚美尼亚 | C12: ARMENIE | D12: 44450 | E12: GEMENA | F12: 盖梅纳 | G12: MK LINES | O12: 0202 | P12: VIANDES DES ANIMAUX DE L'ESPÈCE BOVINE, CONGELÉE | S12: PAQUETS | T12: 包 | U12: PAQUETS | V12: AOA | W12: DES
A13: Aruba | B13: 阿鲁巴 | C13: ARUBA | D13: 44451 | E13: GOMA | F13: 戈马 | G13: MOVCON | O13: 0203 | P13: VIANDES DES ANIMAUX DE L'ESPÈCE PORCINE, FRAÎCHE | S13: BOTTES | T13: 脊，顶，峰 | U13: BOTTES | V13: AOK | W13: DAF
A14: Australia | B14: 澳大利亚 | C14: AUSTRALIE | D14: 44452 | E14: IKELA | F14: 伊凯拉 | G14: NAGOSA FREIGHT SOLUTIONS LIMITED | O14: 0204 | P14: VIANDES DES ANIMAUX DES ESPÈCES OVINE OU CAPRINE, | S14: PIECE (S) | T14: 桶 | U14: PIECE (S) | V14: AON | W14: EXW
A15: Austria | B15: 奥地利 | C15: AUTRICHE | D15: 44453 | E15: INONGO | F15: 伊农戈 | G15: NATRANS NATAL TRANSPORT | O15: 0205 | P15: VIANDES DES ANIMAUX DES ESPÈCES CHEVALINE, ASINE | S15: VOITURE(S) | T15: 油漆桶 | U15: VOITURE(S) | V15: ARP | W15: FOT
A16: Azerbaijan | B16: 阿塞拜疆 | C16: AZERBAIDJAN | D16: 44454 | E16: ISIRO | F16: 伊西罗 | G16: OCEAN STAR | O16: 0206 | P16: ABATS COMESTIBLES DES ANIMAUX DES ESPÈCES BOVINE, | S16: CAMION(S) | T16: 燃料油罐 | U16: CAMION(S) | V16: ARS | W16: FAS
A17: Bahamas | B17: 巴哈马 | C17: BAHAMAS | D17: 44455 | E17: KALEMIE | F17: 卡莱米 | G17: PANOK INTERNATIONAL (U) LTD | O17: 0207 | P17: VIANDES ET ABATS COMESTIBLES, FRAIS, RÉFRIGÉRÉS | S17: TOUQUE(S) | T17: FUT(S) | U17: TOUQUE(S) | V17: ATS | W17: FCA
A18: Bahrain | B18: 巴林 | C18: BAHREÏN | D18: 44456 | E18: KAMINA | F18: 卡米纳 | G18: PICK TRADING LIMITED | O18: 0208 | P18: VIANDES ET ABATS COMESTIBLES FRAIS, RÉFRIGÉRÉS | S18: CYNLENDRE(S) | T18: 螺杆、 螺栓、 螺柱 | U18: CYNLENDRE(S) | V18: AUD | W18: FOB
A19: Bangladesh | B19: 孟加拉 | C19: BANGLADESH | D19: 44457 | E19: KANANGA | F19: 卡南加 | G19: PNR MARINE TRADING III LLC | O19: 0209 | P19: LARD SANS PARTIES MAIGRES, GRAISSE DE PORC ET GRAI | S19: BOBINE(S) | T19: 铁皮桶 | U19: BOBINE(S) | V19: AWF
A20: Barbados | B20: 巴巴多斯 | C20: BARBADE | D20: 44458 | E20: KIKWIT | F20: 基奎特 | G20: SADIKI B | O20: 0210 | P20: VIANDES ET ABATS COMESTIBLES, SALÉS OU EN SAUMURE | S20: TRACTEUR(S) | T20: (汽)油桶 | U20: TRACTEUR(S) | V20: AWG
A21: Belarus | B21: 白俄罗斯 | C21: BIELORUSSIE | D21: 44459 | E21: KISANGANI | F21: 基桑加尼 | G21: SEABED LTD | O21: 0300 | P21: POISSONS ET CRUSTACES, MOLLUSQUES ET AUTRES INVERT | S21: GOUJONS(S) | T21: 件 | U21: GOUJONS(S) | V21: AZM
A22: Belgium | B22: 比利时 | C22: BELGIQUE | D22: 44460 | E22: KONGOLO | F22: 孔戈洛 | G22: SOFIE INTERNATIONAL SA | O22: 0301 | P22: POISSONS VIVANTS | S22: MALLE(S) | T22: 包 | U22: MALLE(S) | V22: AZN
A23: Belize | B23: 伯利兹 | C23: BELIZE | D23: 44461 | E23: LIBENGE | F23: 利本盖 | G23: T-BULK ITALY | O23: 0302 | P23: POISSONS, COMESTIBLES, FRAIS OU RÉFRIGÉRÉS (À | S23: VALISE(S) | T23: 卷 | U23: VALISE(S) | V23: BAK
A24: Benin | B24: 贝宁 | C24: BENIN | D24: 44462 | E24: LISALA | F24: 利萨拉 | G24: TRON TRANSPORTER | O24: 0303 | P24: POISSONS, COMESTIBLES, CONGELÉS (À L'EXCL. DES F | S24: REMORQUE(S) | T24: 托盘 | U24: REMORQUE(S) | V24: BAM
A25: Bermuda | B25: 百慕大 | C25: BERMUDES | D25: 44463 | E25: LOBITO | F25: 洛比托 | G25: WHITE HORSE CARRIERS | O25: 0304 | P25: FILETS DE POISSONS ET AUTRE CHAIR DE POISSONS (MÊ | S25: BIDON(S) | T25: 片 | U25: BIDON(S) | V25: BBD
A26: Bhutan | B26: 不丹 | C26: BHOUTAN | D26: 44464 | E26: LODJA | F26: 洛贾 | G26: 3L-LEEMARK LOGISTICS LTD | O26: 0305 | P26: POISSONS COMESTIBLES, SÉCHÉS, SALÉS OU EN SAUMU | S26: FEUILLE(S) | T26: 片 | U26: FEUILLE(S) | V26: BDT
A27: bolivia | B27: 玻利维亚 | C27: BOLIVIE | D27: 44465 | E27: LUANDA | F27: 罗安达 | G27: 4G | O27: 0306 | P27: CRUSTACÉS, MÊME DÉCORTIQUÉS, VIVANTS, FRAIS, R | S27: FARDEAUX | T27: 管道 | U27: FARDEAUX | V27: BEC
A28: Bosnia and Herzegovina | B28: 波斯尼亚和黑塞哥维那 | C28: BOSNIE-HERZEGOVINE | D28: 44466 | E28: LUBUMBASHI | F28: 卢本巴希 | G28: 6C TRANSPORT SA | O28: 0307 | P28: MOLLUSQUES, PROPRES À L’ALIMENTATION HUMAINE, M | S28: BOUTEILLE | T28: 滑轮 | U28: BOUTEILLE | V28: BEF
A29: botswana | B29: 博茨瓦纳 | C29: BOTSWANA | D29: 44467 | E29: MAKALA | F29: 马卡拉河 | G29: A & B REPLACEMENTS PARTS LTD | O29: 0308 | P29: INVERTÉBRÉS AQUATIQUES AUTRES QUE LES CRUSTACÉS | S29: JERRYCAN(S) | T29: 令(纸， 500张) | U29: JERRYCAN(S) | V29: BEL
A30: Bouvet Island | B30: 布维岛 | C30: ILE BOUVET | D30: 44468 | E30: MANONO | F30: 马诺诺 | G30: A VAN DER WALT | O30: 0400 | P30: LAIT ET PRODUITS DE LA LAITERIE; OEUFS D'OISEAUX; | S30: LOT | T30: 卷 | U30: LOT | V30: BGL
... A40: Canada | B40: 加拿大 | C40: CANADA | D40: 44478 | E40: PORT ELIZABETH | F40: 伊丽莎白港 | G40: AARRE | O40: 0500 | P40: AUTRES PRODUITS D'ORIGINE ANIMALE, NON DENOMMES NI | S40: TON | T40: 车 | U40: TON | V40: BRL
A41: Cape Verde | B41: 佛得角 | C41: CAP-VERT | D41: 44479 | E41: WALVIS BAY | F41: 鲸湾港 | G41: AATSONS | O41: 0502 | P41: SOIES DE PORC OU DE SANGLIER; POILS DE BLAIREAU ET | S41: GRUMES | U41: GRUMES | V41: BSD
A42: Cayman Islands | B42: 开曼群岛 | C42: ILES CAYMAN | D42: 44480 | E42: NDJILI/KINSHASA | G42: AB GILMANS | O42: 0504 | P42: LISTE DES CODES H POUR BOYAUX, VESSIES ET ESTOMACS | S42: FLEXITANK (S) | U42: FLEXITANK (S) | V42: BTN
A43: Central African Republic | B43: 中非共和国 | C43: REPUBLIQUE CENTRAFRICAINE | D43: 44481 | E43: GOMA | G43: ABAN AIR | O43: 0505 | P43: PEAUX ET AUTRES PARTIES D'OISEAUX REVÊTUES DE LEU | S43: IBC | U43: IBC | V43: BTR
A44: Chad | B44: 乍得 | C44: TCHAD | D44: 44482 | E44: KANOMBE | G44: ABASI TRANSPORTERS | O44: 0506 | P44: OS ET CORNILLONS, BRUTS, DÉGRAISSÉS, SIMPL. PRÉ | S44: BULK | U44: BULK | V44: BUK
A45: Chile | B45: 智利 | C45: CHILI | D45: 44483 | E45: NDJILI/KINSHASA | G45: ABBOTT MACHINE | O45: 0507 | P45: IVOIRE, ÉCAILLE DE TORTUE, FANONS (Y.C. LES BARBE | S45: DRUMS | U45: DRUMS | V45: BWP
A46: China | B46: 中国 | C46: CHINE | D46: 44484 | E46: LUBUMBASHI | G46: ABDALLAH TRANSPORT | O46: 0511 | P46: PRODUITS D'ORIGINE ANIMALE, N.D.A.; ANIMAUX MORTS | V46: BYN
A47: Christmas Island | B47: 圣诞岛 | C47: ILE CHRISTMAS | D47: 44485 | E47: LUANO | G47: ABDIKADIR | O47: 0600 | P47: PLANTES VIVANTES ET PRODUITS DE LA FLORICULTURE | V47: BYR
A48: Cocos Islands | B48: 科科斯群岛 | C48: ILES COCOS | D48: 44486 | E48: KOLWEZI | G48: ABDIKADIR | O48: 0601 | P48: BULBES, OIGNONS, TUBERCULES, RACINES TUBÉREUSES, | V48: BZD
A49: Colombia | B49: 哥伦比亚 | C49: COLOMBIE | D49: 44487 | E49: KIGALI | G49: ABDUL LATIFU BALUKU | O49: 0602 | P49: PLANTES VIVANTES (Y.C. LEURS RACINES), BOUTURES ET | V49: CAD
A50: Comoros | B50: 科摩罗 | C50: COMORES | D50: 44488 | E50: BUKAVU | G50: ABDULATIFU BALUKU SHABAN | O50: 0603 | P50: FLEURS ET BOUTONS DE FLEURS, COUPÉS, POUR BOUQUET | V50: CDF
...

Sheet Sheet1
A1: Date of Issue of B/L (提单签发日期) | B1: =VLOOKUP('APPLICATION FORM'!B28,DATA!$D:$D,1,FALSE) -> #N/A | C1: =IF('APPLICATION FORM'!B28="","",IFERROR(B1,"ERROR(填写错误)"))
A3: Country of Loading (启运国) | B3: =VLOOKUP('APPLICATION FORM'!B32,DATA!A:C,3,FALSE) -> #N/A | D3: =IF('APPLICATION FORM'!B32="","",IFERROR(B3,"ERROR(填写错误)"))
A4: Destination Port | B4: =VLOOKUP('APPLICATION FORM'!F35,DATA!E:E,1,FALSE) -> #N/A | D4: =IF('APPLICATION FORM'!F35="","",IFERROR(B4,"ERROR(填写错误)"))
A6: ETD Date of Loading (船离港日期) | B6: =VLOOKUP('APPLICATION FORM'!B36,DATA!$D:$D,1,FALSE) -> #N/A | C6: =IF('APPLICATION FORM'!B36="","",IFERROR(B6,"ERROR(填写错误)")) | D6: =VLOOKUP('APPLICATION FORM'!C36,DATA!$D:$D,1,FALSE) -> #N/A | E6: =IF('APPLICATION FORM'!C36="","",IFERROR(D6,"ERROR(填写错误)")) | F6: =VLOOKUP('APPLICATION FORM'!D36,DATA!$D:$D,1,FALSE) -> #N/A | G6: =IF('APPLICATION FORM'!D36="","",IFERROR(F6,"ERROR(填写错误)")) | H6: =VLOOKUP('APPLICATION FORM'!E36,DATA!$D:$D,1,FALSE) -> #N/A | I6: =IF('APPLICATION FORM'!E36="","",IFERROR(H6,"ERROR(填写错误)"))
A7: ETA Date of Arrival (船抵港日期) | D7: =VLOOKUP('APPLICATION FORM'!C37,DATA!$D:$D,1,FALSE) -> #N/A | E7: =IF('APPLICATION FORM'!C37="","",IFERROR(D7,"ERROR(填写错误)")) | F7: =VLOOKUP('APPLICATION FORM'!D37,DATA!$D:$D,1,FALSE) -> #N/A | G7: =IF('APPLICATION FORM'!D37="","",IFERROR(F7,"ERROR(填写错误)")) | H7: =VLOOKUP('APPLICATION FORM'!E37,DATA!$D:$D,1,FALSE) -> #N/A | I7: =IF('APPLICATION FORM'!E37="","",IFERROR(H7,"ERROR(填写错误)")) | J7: =VLOOKUP('APPLICATION FORM'!F37,DATA!$D:$D,1,FALSE) -> #N/A | K7: =IF('APPLICATION FORM'!F37="","",IFERROR(J7,"ERROR(填写错误)"))
A9: Shipping Line (船公司名) | B9: =VLOOKUP('APPLICATION FORM'!B38,DATA!G:G,1,FALSE) -> #N/A | D9: =IF('APPLICATION FORM'!B38="","",IFERROR(B9,"ERROR(填写错误)"))
A11: Sea Mode of Transport (海运方式) | B11: =VLOOKUP('APPLICATION FORM'!B43,DATA!I:K,3,FALSE) -> Conteneur | D11: =IF('APPLICATION FORM'!B43="","",IFERROR(B11,"ERROR(填写错误)")) -> Conteneur
A13: Container size (货柜尺寸) | B13: =VLOOKUP('APPLICATION FORM'!B46,DATA!$H:$H,1,FALSE) -> #N/A | C13: =VLOOKUP('APPLICATION FORM'!C46,DATA!$H:$H,1,FALSE) -> #N/A | D13: =VLOOKUP('APPLICATION FORM'!D46,DATA!$H:$H,1,FALSE) -> #N/A | E13: =VLOOKUP('APPLICATION FORM'!E46,DATA!$H:$H,1,FALSE) -> #N/A | F13: =VLOOKUP('APPLICATION FORM'!F46,DATA!$H:$H,1,FALSE) -> #N/A | G13: =VLOOKUP('APPLICATION FORM'!G46,DATA!$H:$H,1,FALSE) -> #N/A | H13: =VLOOKUP('APPLICATION FORM'!H46,DATA!$H:$H,1,FALSE) -> #N/A | I13: =VLOOKUP('APPLICATION FORM'!I46,DATA!$H:$H,1,FALSE) -> #N/A | ... CW13: =VLOOKUP('APPLICATION FORM'!CW46,DATA!$H:$H,1,FALSE) -> #N/A
A14: Container Type (货柜类型) | B14: =VLOOKUP('APPLICATION FORM'!B47,DATA!$L:$N,3,FALSE) -> #N/A | C14: =VLOOKUP('APPLICATION FORM'!C47,DATA!$L:$N,3,FALSE) -> #N/A | D14: =VLOOKUP('APPLICATION FORM'!D47,DATA!$L:$N,3,FALSE) -> #N/A | E14: =VLOOKUP('APPLICATION FORM'!E47,DATA!$L:$N,3,FALSE) -> #N/A | F14: =VLOOKUP('APPLICATION FORM'!F47,DATA!$L:$N,3,FALSE) -> #N/A | G14: =VLOOKUP('APPLICATION FORM'!G47,DATA!$L:$N,3,FALSE) -> #N/A | H14: =VLOOKUP('APPLICATION FORM'!H47,DATA!$L:$N,3,FALSE) -> #N/A | I14: =VLOOKUP('APPLICATION FORM'!I47,DATA!$L:$N,3,FALSE) -> #N/A | ... CW14: =VLOOKUP('APPLICATION FORM'!CW47,DATA!$L:$N,3,FALSE) -> #N/A
A16: HS | B16: =IF('APPLICATION FORM'!B58>0,VLOOKUP('APPLICATION FORM'!B58,DATA!O:P,2,FALSE),"") | D16: =VLOOKUP('APPLICATION FORM'!B58,DATA!O:O,1,FALSE) -> #N/A | E16: =IFERROR(B16,"ERROR(填写错误)")
A17: Country Origin of the goods 货物原产地 | B17: =VLOOKUP('APPLICATION FORM'!B59,DATA!A:C,3,FALSE) -> #N/A | D17: =IF('APPLICATION FORM'!B59="","",IFERROR(B17,"ERROR(填写错误)"))
A18: IMDG Code(国际危规) | B18: =IF('APPLICATION FORM'!B60>0,VLOOKUP('APPLICATION FORM'!B60,DATA!Q:R,2,FALSE),"") -> N.C. | D18: =VLOOKUP('APPLICATION FORM'!B60,DATA!Q:Q,1,FALSE) -> 00 | E18: =IFERROR(B18,"ERROR(填写错误)") -> N.C.
A19: Package Type (包装种类) | B19: =VLOOKUP('APPLICATION FORM'!B62,DATA!S:U,3,FALSE) -> #N/A | D19: =IF('APPLICATION FORM'!B62="","",IFERROR(B19,"ERROR(填写错误)"))
A21: Incoterm (成交方式) | B21: =VLOOKUP('APPLICATION FORM'!B68,DATA!W:W,1,FALSE) -> CFR | D21: =IF('APPLICATION FORM'!B68="","",IFERROR(B21,"ERROR(填写错误)")) -> CFR

Sheet APPLICATION FORM
A2: OGEFREM F.E.R.I. APPLICATION FORM -- DEMOCRATIC REPUBLIC OF CONGO 刚果（金） | H2: 44565
A3: 底色浅绿色为下拉选择，请勿直接填写GREEN BOX ARE SELECTED ONE, PLEASE DO NOT FILL IN.
A4: Document required 所需提供的文件：
A5: 1. Bills of Lading 提单正本
A6: 2. Packing list 装箱单
A7: 3. Invoice 商业发票
A8: Please kindly provide each of the required document for ONLY ONE file.(请提供以上材料各一份。)
A10: IMPORTER DETAILS (收货人)
A11: FXI NO:
A12: Company Name (公司名)
A13: Address (地址)
A14: E-mail (电邮)
A15: Telephone (国家代号+区域代号+电话号码)
... A27: Bill of Lading (提单号)
A28: Date of Issue of B/L (提单签发日期) | G28: Please select (请选择) | I28: =Sheet1!C1
A29: Forwarding agent (跟踪单申请人) (公司名)
A31: SHIPMENT FULL ROUTING (全程航线)
A32: Country of Loading (启运国) | G32: Please select (请选择) | I32: =Sheet1!D3
A33: Final Destination (最终目的地)
A34: Ports 装货港/中转港/最终目的港 | B34: POL | C34: 1st TRANSHIP | D34: 2nd TRANSHIP | E34: 3rd TRANSHIP | F34: Destination Port
G35: Please select (请选择) | I35: =Sheet1!D4
A36: ETD Date of Loading (船离港日期) | I36: =Sheet1!C6 | J36: =Sheet1!E6 | K36: =Sheet1!G6 | L36: =Sheet1!I6
A37: ETA Date of Arrival (船抵港日期) | J37: =Sheet1!E7 | K37: =Sheet1!G7 | L37: =Sheet1!I7 | M37: =Sheet1!K7
A38: Shipping Line (船公司名) | I38: =Sheet1!D9
A39: Vessel Name (船名)
A40: Voyage number (航次) | G40: System length of 14,more than 14 shall not be appear. (限14个字母，超出不显示)
A42: CONTAINER / BULK DETAILS (货柜/散货资料)
A43: Sea Mode of Transport (海运方式) | B43: Container | C43: Please select (请选择) | E43: =Sheet1!D11 -> Conteneur | G43: Please fill in all infromation of container for container goods. (如果是集装箱货物，则货柜资料全部必填。 )
A44: 20't FCL Quantity (货柜数量 20') | C44: Please insert container numbers ONLY NOT CONTAINER SIZE (请填集装箱箱量)
A45: 40't FCL Quantity (货柜数量 40')
A46: Container size (货柜尺寸)
A47: Container Type (货柜类型)
A48: Container number(s) (货柜号)
A49: Seal number(s) (封条号)
A50: Gross Weight Per FCL (kgs) (货柜毛重)
A51: Net Weight Per FCL (kgs) (货柜净重)
A52: Volume (cbm) (货柜体积)
A53: Total Gross Weight (kgs) (总毛重) | C53: Please insert numbers (请输入数字) | E53: If it is BULK GOODS,please ONLY insert for Total infroamtion. (如果是散货，请只填写总栏信息。)
A54: Total Net Weight (kgs) (总净重)
A55: Total Volume (cbm) (总体积)
...

Sheet Sample Container 集装箱样表
A2: OGEFREM F.E.R.I. APPLICATION FORM -- DEMOCRATIC REPUBLIC OF CONGO 刚果（金）
A4: Document required 所需提供的文件： | B4: This is ONLY SAMPLE FORM, the figures is all fake one, please make it as your refernce only. 本张表格仅为样表，所有数据均不真实，仅供参考。
A5: 1. Bills of Lading 提单正本
A6: 2. Packing list 装箱单
A7: 3. Invoice 商业发票
A8: Please kindly provide each of the required document for ONLY ONE file.(请提供以上材料各一份。)
A10: IMPORTER DETAILS (收货人)
A11: FXI NO: | B11: Sample FXI0000000000
A12: Company Name (公司名) | B12: Sample Company A
A13: Address (地址) | B13: Sample Address A
A14: E-mail (电邮) | B14: Sample 1@CompanyA.com
A15: Telephone (国家代号+区域代号+电话号码) | B15: +(0)111111111111
A16: Fax (国家代号+区域代号+传真号码) | B16: +(0)222222222222
A17: We are not responsible for any wrong email address given.
A18: 收货人邮电地址必须正确，如填写不对，造成资料外泄至第三者，我们对后果不负责。
A19: SHIPPER DETAILS (发货人)
A20: Company Name (公司名) | B20: Sample Company B
A21: Address (地址) | B21: Address B
A22: E-mail (电邮) | B22: Sample 2@CompanyB.com
A23: Telephone (国家代号+区域代号+电话号码) | B23: +(0)333333333333
A24: Fax (国家代号+区域代号+传真号码) | B24: +(0)444444444444
A26: B/L INFORMATION (提单信息)
A27: Bill of Lading (提单号) | B27: Sample GWDD5555555555
A28: Date of Issue of B/L (提单签发日期) | B28: YEAR/MONTH/DAY | G28: Please select (请选择)
A29: Forwarding agent (跟踪单申请人) (公司名) | B29: FERI requester(company name or person name)
A31: SHIPMENT FULL ROUTING (全程航线)
A32: Country of Loading (启运国) | B32: Sample China | G32: Please select (请选择)
A33: Final Destination (最终目的地) | B33: Sample KINSHASA
A34: Ports 装货港/中转港/最终目的港 | B34: POL | C34: 1st TRANSHIP | D34: 2nd TRANSHIP | E34: 3rd TRANSHIP | F34: Destination Port
B35: Sample SHANGHAI | C35: Sample FUZHOU | F35: Sample MATADI | G35: Please select (请选择)
A36: ETD Date of Loading (船离港日期) | B36: YEAR/MONTH/DAY | C36: YEAR/MONTH/DAY
A37: ETA Date of Arrival (船抵港日期) | C37: YEAR/MONTH/DAY | F37: YEAR/MONTH/DAY
A38: Shipping Line (船公司名) | B38: Sample Shippiing LINE
A39: Vessel Name (船名) | B39: Sample Name01 | C39: Sample Name02
A40: Voyage number (航次) | B40: Sample 01 | C40: Sample 02 | G40: System length of 14,more than 14 shall not be appear. (限14个字母，超出不显示)
A42: CONTAINER / BULK DETAILS (货柜/散货资料)
A43: Sea Mode of Transport (海运方式) | B43: Container | C43: Please select (请选择) | F43: Please fill in all infromation of container for container goods. (如果是集装箱货物，则货柜资料全部必填。 )
A44: 20't FCL Quantity (货柜数量 20') | B44: 5 | C44: Please insert container numbers ONLY (请填集装箱箱量)
A45: 40't FCL Quantity (货柜数量 40') | B45: 1
A46: Container size (货柜尺寸) | B46: 20‘ | C46: 20‘ | D46: 20‘ | E46: 20‘ | F46: 20‘ | G46: 40‘
...

Sheet Sample RORO or LCL 滚箱拼箱样表
A2: OGEFREM F.E.R.I. APPLICATION FORM -- DEMOCRATIC REPUBLIC OF CONGO 刚果（金）
A4: Document required 所需提供的文件： | B4: This is ONLY SAMPLE FORM, the figures is all fake one, please make it as your refernce only. 本张表格仅为样表，所有数据均不真实，仅供参考。
A5: 1. Bills of Lading 提单正本
A6: 2. Packing list 装箱单
A7: 3. Invoice 商业发票
A8: Please kindly provide each of the required document for ONLY ONE file.(请提供以上材料各一份。)
A10: IMPORTER DETAILS (收货人)
A11: FXI NO: | B11: Sample FXI0000000000
A12: Company Name (公司名) | B12: Sample Company A
A13: Address (地址) | B13: Sample Address A
A14: E-mail (电邮) | B14: Sample 1@CompanyA.com
A15: Telephone (国家代号+区域代号+电话号码) | B15: +(0)111111111111
A16: Fax (国家代号+区域代号+传真号码) | B16: +(0)222222222222
A17: We are not responsible for any wrong email address given.
A18: 收货人邮电地址必须正确，如填写不对，造成资料外泄至第三者，我们对后果不负责。
A19: SHIPPER DETAILS (发货人)
A20: Company Name (公司名) | B20: Sample Company B
A21: Address (地址) | B21: Address B
A22: E-mail (电邮) | B22: Sample 2@CompanyB.com
A23: Telephone (国家代号+区域代号+电话号码) | B23: +(0)333333333333
A24: Fax (国家代号+区域代号+传真号码) | B24: +(0)444444444444
A26: B/L INFORMATION (提单信息)
A27: Bill of Lading (提单号) | B27: Sample GWDD5555555555
A28: Date of Issue of B/L (提单签发日期) | B28: YEAR/MONTH/DAY | G28: Please select (请选择)
A29: Forwarding agent (跟踪单申请人) (公司名) | B29: FERI requester(company name or person name)
A31: SHIPMENT FULL ROUTING (全程航线)
A32: Country of Loading (启运国) | B32: Sample China | G32: Please select (请选择)
A33: Final Destination (最终目的地) | B33: Sample KINSHASA
A34: Ports 装货港/中转港/最终目的港 | B34: POL | C34: 1st TRANSHIP | D34: 2nd TRANSHIP | E34: 3rd TRANSHIP | F34: Destination Port
B35: Sample SHANGHAI | C35: Sample FUZHOU | F35: Sample MATADI | G35: Please select (请选择)
A36: ETD Date of Loading (船离港日期) | B36: YEAR/MONTH/DAY | C36: YEAR/MONTH/DAY
A37: ETA Date of Arrival (船抵港日期) | C37: YEAR/MONTH/DAY | F37: YEAR/MONTH/DAY
A38: Shipping Line (船公司名) | B38: Sample Shippiing LINE
A39: Vessel Name (船名) | B39: Sample Name01 | C39: Sample Name02
A40: Voyage number (航次) | B40: Sample 01 | C40: Sample 02 | G40: System length of 14,more than 14 shall not be appear. (限14个字母，超出不显示)
A42: CONTAINER / BULK DETAILS (货柜/散货资料)
A43: Sea Mode of Transport (海运方式) | B43: RoRo/LCL | C43: Please select (请选择) | F43: Please fill in all infromation of container for container goods. (如果是集装箱货物，则货柜资料全部必填。 )
A44: 20't FCL Quantity (货柜数量 20') | C44: Please insert container numbers ONLY (请填集装箱箱量)
A45: 40't FCL Quantity (货柜数量 40')
A46: Container size (货柜尺寸)
...

Sheet Sample Bulk or Genco 散货建杂货样表
A2: OGEFREM F.E.R.I. APPLICATION FORM -- DEMOCRATIC REPUBLIC OF CONGO 刚果（金）
A4: Document required 所需提供的文件： | B4: This is ONLY SAMPLE FORM, the figures is all fake one, please make it as your refernce only. 本张表格仅为样表，所有数据均不真实，仅供参考。
A5: 1. Bills of Lading 提单正本
A6: 2. Packing list 装箱单
A7: 3. Invoice 商业发票
A8: Please kindly provide each of the required document for ONLY ONE file.(请提供以上材料各一份。)
A10: IMPORTER DETAILS (收货人)
A11: FXI NO: | B11: Sample FXI0000000000
A12: Company Name (公司名) | B12: Sample Company A
A13: Address (地址) | B13: Sample Address A
A14: E-mail (电邮) | B14: Sample 1@CompanyA.com
A15: Telephone (国家代号+区域代号+电话号码) | B15: +(0)111111111111
A16: Fax (国家代号+区域代号+传真号码) | B16: +(0)222222222222
A17: We are not responsible for any wrong email address given.
A18: 收货人邮电地址必须正确，如填写不对，造成资料外泄至第三者，我们对后果不负责。
A19: SHIPPER DETAILS (发货人)
A20: Company Name (公司名) | B20: Sample Company B
A21: Address (地址) | B21: Address B
A22: E-mail (电邮) | B22: Sample 2@CompanyB.com
A23: Telephone (国家代号+区域代号+电话号码) | B23: +(0)333333333333
A24: Fax (国家代号+区域代号+传真号码) | B24: +(0)444444444444
A26: B/L INFORMATION (提单信息)
A27: Bill of Lading (提单号) | B27: Sample GWDD5555555555
A28: Date of Issue of B/L (提单签发日期) | B28: YEAR/MONTH/DAY | G28: Please select (请选择)
A29: Forwarding agent (跟踪单申请人) (公司名) | B29: FERI requester(company name or person name)
A31: SHIPMENT FULL ROUTING (全程航线)
A32: Country of Loading (启运国) | B32: Sample China | G32: Please select (请选择)
A33: Final Destination (最终目的地) | B33: Sample KINSHASA
A34: Ports 装货港/中转港/最终目的港 | B34: POL | C34: 1st TRANSHIP | D34: 2nd TRANSHIP | E34: 3rd TRANSHIP | F34: Destination Port
B35: Sample SHANGHAI | C35: Sample FUZHOU | F35: Sample MATADI | G35: Please select (请选择)
A36: ETD Date of Loading (船离港日期) | B36: YEAR/MONTH/DAY | C36: YEAR/MONTH/DAY
A37: ETA Date of Arrival (船抵港日期) | C37: YEAR/MONTH/DAY | F37: YEAR/MONTH/DAY
A38: Shipping Line (船公司名) | B38: Sample Shippiing LINE
A39: Vessel Name (船名) | B39: Sample Name01 | C39: Sample Name02
A40: Voyage number (航次) | B40: Sample 01 | C40: Sample 02 | G40: System length of 14,more than 14 shall not be appear. (限14个字母，超出不显示)
A42: CONTAINER / BULK DETAILS (货柜/散货资料)
A43: Sea Mode of Transport (海运方式) | B43: Bulk/Genco | C43: Please select (请选择) | F43: Please fill in all infromation of container for container goods. (如果是集装箱货物，则货柜资料全部必填。 )
A44: 20't FCL Quantity (货柜数量 20') | C44: Please insert container numbers ONLY (请填集装箱箱量)
A45: 40't FCL Quantity (货柜数量 40')
A46: Container size (货柜尺寸)
...
